BEGIN:VCALENDAR
VERSION:2.0
PRODID:-//35.213.161.252//NONSGML kigkonsult.se iCalcreator 2.26.9//
CALSCALE:GREGORIAN
METHOD:PUBLISH
X-FROM-URL:https://mastertonclub.co.nz
X-WR-TIMEZONE:Pacific/Auckland
BEGIN:VTIMEZONE
TZID:Pacific/Auckland
X-LIC-LOCATION:Pacific/Auckland
BEGIN:STANDARD
DTSTART:20210404T030000
TZOFFSETFROM:+1300
TZOFFSETTO:+1200
RDATE:20220403T030000
TZNAME:NZST
END:STANDARD
BEGIN:DAYLIGHT
DTSTART:20200927T020000
TZOFFSETFROM:+1200
TZOFFSETTO:+1300
RDATE:20210926T020000
TZNAME:NZDT
END:DAYLIGHT
END:VTIMEZONE
BEGIN:VEVENT
UID:ai1ec-79@mastertonclub.co.nz
DTSTAMP:20210119T083306Z
CATEGORIES:
CONTACT:Masterton Club\; 06-377 3318\; inquiry@mastertonclubinc.co.nz\; htt
 ps://mastertonclub.co.nz
DESCRIPTION:Club Closed
DTSTART;VALUE=DATE:20190317
DTEND;VALUE=DATE:20190318
LOCATION:Masterton Club @ 98 Chapel St\, Masterton
RRULE:FREQ=WEEKLY;BYDAY=SU;WKST=MO
SEQUENCE:0
SUMMARY:Sunday Club Closed
URL:https://mastertonclub.co.nz/event/sunday-club-closed/
X-COST-TYPE:free
X-ALT-DESC;FMTTYPE=text/html:<!DOCTYPE HTML PUBLIC '-//W3C//DTD HTML 3.2//E
 N'>\\n<HTML>\\n<HEAD>\\n<TITLE></TITLE>\\n</HEAD>\\n<BODY><div id='et-boc'
  class='et-boc'>\n			\n		<div class='et-l et-l--post'>\n			<div class='et_builder_
 inner_content et_pb_gutters3'>\n		<p>Club Closed</p>\n\n		</div><!-- .et_build
 er_inner_content -->\n	</div><!-- .et-l -->\n	\n			\n		</div><!-- #et-boc -->\n		</
 BODY></HTML>
END:VEVENT
BEGIN:VEVENT
UID:ai1ec-80@mastertonclub.co.nz
DTSTAMP:20210119T083306Z
CATEGORIES:
CONTACT:Masterton Club\; 06-377 3318\; inquiry@mastertonclubinc.co.nz\; htt
 ps://mastertonclub.co.nz
DESCRIPTION:Club Closed
DTSTART;VALUE=DATE:20190318
DTEND;VALUE=DATE:20190319
LOCATION:Masterton Club @ 98 Chapel St\, Masterton
RRULE:FREQ=WEEKLY;BYDAY=MO;WKST=MO
SEQUENCE:0
SUMMARY:Monday Club Closed
URL:https://mastertonclub.co.nz/event/monday-club-closed/
X-COST-TYPE:free
X-ALT-DESC;FMTTYPE=text/html:<!DOCTYPE HTML PUBLIC '-//W3C//DTD HTML 3.2//E
 N'>\\n<HTML>\\n<HEAD>\\n<TITLE></TITLE>\\n</HEAD>\\n<BODY><div id='et-boc'
  class='et-boc'>\n			\n		<div class='et-l et-l--post'>\n			<div class='et_builder_
 inner_content et_pb_gutters3'>\n		<p>Club Closed</p>\n\n		</div><!-- .et_build
 er_inner_content -->\n	</div><!-- .et-l -->\n	\n			\n		</div><!-- #et-boc -->\n		</
 BODY></HTML>
END:VEVENT
BEGIN:VEVENT
UID:ai1ec-73@mastertonclub.co.nz
DTSTAMP:20210119T083306Z
CATEGORIES:
CONTACT:Masterton Club\; 06-377 3318\; inquiry@mastertonclubinc.co.nz\; htt
 ps://mastertonclub.co.nz
DESCRIPTION:Club Open: Noon – 8pm Note: Service Clubs meet from 10am onward
 s\nBar Open: 3pm – 7pm*\nRestaurant: CLOSED\n(Bookings of 10 or more howev
 er can be catered for by arrangement )
DTSTART;TZID=Pacific/Auckland:20190312T120000
DTEND;TZID=Pacific/Auckland:20190312T200000
LOCATION:Masterton Club @ 98 Chapel St\, Masterton
RRULE:FREQ=WEEKLY;BYDAY=TU;WKST=MO
SEQUENCE:0
SUMMARY:Tuesday Club Open
URL:https://mastertonclub.co.nz/event/tuesday-club-open/
X-COST-TYPE:free
X-ALT-DESC;FMTTYPE=text/html:<!DOCTYPE HTML PUBLIC '-//W3C//DTD HTML 3.2//E
 N'>\\n<HTML>\\n<HEAD>\\n<TITLE></TITLE>\\n</HEAD>\\n<BODY><div id='et-boc'
  class='et-boc'>\n			\n		<div class='et-l et-l--post'>\n			<div class='et_builder_
 inner_content et_pb_gutters3'>\n		<p>Club Open: Noon – 8pm Note: Service Clu
 bs meet from 10am onwards<br />\nBar Open: 3pm – 7pm*<br />\nRestaurant: C
 LOSED<br />\n(Bookings of 10 or more however can be catered for by arrange
 ment )</p>\n\n		</div><!-- .et_builder_inner_content -->\n	</div><!-- .et-l -
 ->\n	\n			\n		</div><!-- #et-boc -->\n		</BODY></HTML>
END:VEVENT
BEGIN:VEVENT
UID:ai1ec-75@mastertonclub.co.nz
DTSTAMP:20210119T083306Z
CATEGORIES:
CONTACT:Masterton Club\; 06-377 3318\; inquiry@mastertonclubinc.co.nz\; htt
 ps://mastertonclub.co.nz
DESCRIPTION:Club Open: Noon – 8pm\nBar Open: 3pm – 8pm\nRestaurant: 6:30pm 
 – 7:30 pm\, Boddington Room\nClub Night Meat Raffles\, Drawn at 7.00pm\nTh
 e Wednesday Night Lucky Cash Draw: Drawn 7.00pm
DTSTART;TZID=Pacific/Auckland:20190313T120000
DTEND;TZID=Pacific/Auckland:20190313T200000
LOCATION:Masterton Club @ 98 Chapel St\, Masterton
RRULE:FREQ=WEEKLY;BYDAY=WE;WKST=MO
SEQUENCE:0
SUMMARY:Wednesday Club Open
URL:https://mastertonclub.co.nz/event/wednesday-club-open/
X-COST-TYPE:free
X-ALT-DESC;FMTTYPE=text/html:<!DOCTYPE HTML PUBLIC '-//W3C//DTD HTML 3.2//E
 N'>\\n<HTML>\\n<HEAD>\\n<TITLE></TITLE>\\n</HEAD>\\n<BODY><div id='et-boc'
  class='et-boc'>\n			\n		<div class='et-l et-l--post'>\n			<div class='et_builder_
 inner_content et_pb_gutters3'>\n		<p>Club Open: Noon – 8pm<br />\nBar Open: 
 3pm – 8pm<br />\nRestaurant: 6:30pm – 7:30 pm\, Boddington Room<br />\nClu
 b Night Meat Raffles\, Drawn at 7.00pm<br />\nThe Wednesday Night Lucky Ca
 sh Draw: Drawn 7.00pm</p>\n\n		</div><!-- .et_builder_inner_content -->\n	</d
 iv><!-- .et-l -->\n	\n			\n		</div><!-- #et-boc -->\n		</BODY></HTML>
END:VEVENT
BEGIN:VEVENT
UID:ai1ec-76@mastertonclub.co.nz
DTSTAMP:20210119T083306Z
CATEGORIES:
CONTACT:Masterton Club\; 06-377 3318\; inquiry@mastertonclubinc.co.nz\; htt
 ps://mastertonclub.co.nz
DESCRIPTION:Club open: Noon – 8pm Note: Service clubs meet from 10am onward
 s\nBar open: 3pm – 8pm\nRestaurant: CLOSED\n(Bookings of 10 or more howeve
 r can be catered for by arrangement.)
DTSTART;TZID=Pacific/Auckland:20190314T120000
DTEND;TZID=Pacific/Auckland:20190314T200000
LOCATION:Masterton Club @ 98 Chapel St\, Masterton
RRULE:FREQ=WEEKLY;BYDAY=TH;WKST=MO
SEQUENCE:0
SUMMARY:Thursday Club Open
URL:https://mastertonclub.co.nz/event/thursday-club-open/
X-COST-TYPE:free
X-ALT-DESC;FMTTYPE=text/html:<!DOCTYPE HTML PUBLIC '-//W3C//DTD HTML 3.2//E
 N'>\\n<HTML>\\n<HEAD>\\n<TITLE></TITLE>\\n</HEAD>\\n<BODY><div id='et-boc'
  class='et-boc'>\n			\n		<div class='et-l et-l--post'>\n			<div class='et_builder_
 inner_content et_pb_gutters3'>\n		<p>Club open: Noon – 8pm Note: Service clu
 bs meet from 10am onwards<br />\nBar open: 3pm – 8pm<br />\nRestaurant: CL
 OSED<br />\n(Bookings of 10 or more however can be catered for by arrangem
 ent.)</p>\n\n		</div><!-- .et_builder_inner_content -->\n	</div><!-- .et-l --
 >\n	\n			\n		</div><!-- #et-boc -->\n		</BODY></HTML>
END:VEVENT
BEGIN:VEVENT
UID:ai1ec-77@mastertonclub.co.nz
DTSTAMP:20210119T083306Z
CATEGORIES:
CONTACT:Masterton Club\; 06-377 3318\; inquiry@mastertonclubinc.co.nz\; htt
 ps://mastertonclub.co.nz
DESCRIPTION:Club open: Noon – 8pm\nBar open: 3pm – 8pm\nRestaurant: CLOSED
 \nClub BBQ: By arrangement with members
DTSTART;TZID=Pacific/Auckland:20190315T120000
DTEND;TZID=Pacific/Auckland:20190315T200000
LOCATION:Masterton Club @ 98 Chapel St\, Masterton
RRULE:FREQ=WEEKLY;BYDAY=FR;WKST=MO
SEQUENCE:0
SUMMARY:Friday Club Open
URL:https://mastertonclub.co.nz/event/friday-club-open/
X-COST-TYPE:free
X-ALT-DESC;FMTTYPE=text/html:<!DOCTYPE HTML PUBLIC '-//W3C//DTD HTML 3.2//E
 N'>\\n<HTML>\\n<HEAD>\\n<TITLE></TITLE>\\n</HEAD>\\n<BODY><div id='et-boc'
  class='et-boc'>\n			\n		<div class='et-l et-l--post'>\n			<div class='et_builder_
 inner_content et_pb_gutters3'>\n		<p>Club open: Noon – 8pm<br />\nBar open: 
 3pm – 8pm<br />\nRestaurant: CLOSED<br />\nClub BBQ: By arrangement with m
 embers</p>\n\n		</div><!-- .et_builder_inner_content -->\n	</div><!-- .et-l -
 ->\n	\n			\n		</div><!-- #et-boc -->\n		</BODY></HTML>
END:VEVENT
BEGIN:VEVENT
UID:ai1ec-78@mastertonclub.co.nz
DTSTAMP:20210119T083306Z
CATEGORIES:
CONTACT:Masterton Club\; 06-377 3318\; inquiry@mastertonclubinc.co.nz\; htt
 ps://mastertonclub.co.nz
DESCRIPTION:Club open: 3pm – 8pm\nBar open: 3pm – 8pm\nRestaurant: CLOSED\n
 (Bookings of 10 or more however can be catered for by arrangement)
DTSTART;TZID=Pacific/Auckland:20190316T150000
DTEND;TZID=Pacific/Auckland:20190316T200000
LOCATION:Masterton Club @ 98 Chapel St\, Masterton
RRULE:FREQ=WEEKLY;BYDAY=SA;WKST=MO
SEQUENCE:0
SUMMARY:Saturday Club Open
URL:https://mastertonclub.co.nz/event/saturday-club-open/
X-COST-TYPE:free
X-ALT-DESC;FMTTYPE=text/html:<!DOCTYPE HTML PUBLIC '-//W3C//DTD HTML 3.2//E
 N'>\\n<HTML>\\n<HEAD>\\n<TITLE></TITLE>\\n</HEAD>\\n<BODY><div id='et-boc'
  class='et-boc'>\n			\n		<div class='et-l et-l--post'>\n			<div class='et_builder_
 inner_content et_pb_gutters3'>\n		<p>Club open: 3pm – 8pm<br />\nBar open: 3
 pm – 8pm<br />\nRestaurant: CLOSED<br />\n(Bookings of 10 or more however 
 can be catered for by arrangement)</p>\n\n		</div><!-- .et_builder_inner_con
 tent -->\n	</div><!-- .et-l -->\n	\n			\n		</div><!-- #et-boc -->\n		</BODY></HTML>
END:VEVENT
END:VCALENDAR
